BEGIN:VCALENDAR
VERSION:2.0
PRODID:spatie/icalendar-generator
DESCRIPTION:Évènements de Sous les étoiles
X-WR-CALDESC:Évènements de Sous les étoiles
REFRESH-INTERVAL;VALUE=DURATION:PT1440M
X-PUBLISHED-TTL:PT1440M
BEGIN:VTIMEZONE
TZID:Europe/Paris
BEGIN:STANDARD
DTSTART:20231029T030000Z
TZOFFSETFROM:+0200
TZOFFSETTO:+0100
END:STANDARD
BEGIN:DAYLIGHT
DTSTART:20240331T020000Z
TZOFFSETFROM:+0100
TZOFFSETTO:+0200
END:DAYLIGHT
END:VTIMEZONE
BEGIN:VTIMEZONE
TZID:UTC
BEGIN:STANDARD
DTSTART:20250727T010624Z
TZOFFSETFROM:+0000
TZOFFSETTO:+0000
END:STANDARD
END:VTIMEZONE
BEGIN:VEVENT
UID:78-25
DTSTAMP:20260423T010624Z
SUMMARY:tournage : Harry Potter scène collective
LOCATION:Aumessas     30770
ORGANIZER;CN=sous les etoiles:MAILTO:comediemusicalelevigan@gmail.com
DTSTART;TZID=Europe/Paris:20240410T120000
DTEND;TZID=Europe/Paris:20240410T153000
X-ALT-DESC;FMTTYPE=TEXT/HTML:
CATEGORIES:Tournages
URL;VALUE=URI:https://souslesetoiles.art/evenement/tournage-harry-potter-sc
 ene-collective/?mc_id=78
METHOD:PUBLISH
END:VEVENT
END:VCALENDAR